BEGIN:VCALENDAR
VERSION:2.0
PRODID:-//AudioTheme 1.8.0
BEGIN:VEVENT
UID:http://www.francoisdumont.com/?post_type=audiotheme_gig&#038;p=499
URL:https://www.francoisdumont.com/shows/recital-salle-gaveau/
DTSTART;TZID=GMT:20170116T000000
SUMMARY:Récital Salle Gaveau
DESCRIPTION:Récital Bach-Mozart-Chopin  A l'occasion de la sortie du nouvel album BACH chez Artalinna   http://www.sallegaveau.com/la-saison/1098/francois-dumont
END:VEVENT
END:VCALENDAR