BEGIN:VCALENDAR
VERSION:2.0
PRODID:-//AudioTheme 1.8.0
BEGIN:VEVENT
UID:http://www.mickaelarcos.fr/wordpress4_dumont/?post_type=audiotheme_gig&#038;p=247
URL:https://www.francoisdumont.com/shows/castres/
DTSTART;VALUE=DATE:20151206
SUMMARY:Castres
DESCRIPTION:Magnard\, Quintette pour flûte\, hautbois\, clarinette\, basson et piano (1895)  Ravel\, Miroirs\, pour piano seul (1906)  <small>François Dumont\, piano - Philippe Bernold\, flûte - Olivier Doise\, hautbois - Philippe Berrod\,   clarinette - Julien Hardy\, basson</small>
LOCATION:Castres\, Théâtre (Dimanches musicaux)
END:VEVENT
END:VCALENDAR