BEGIN:VCALENDAR
VERSION:2.0
PRODID:-//AudioTheme 1.8.0
BEGIN:VEVENT
UID:http://www.mickaelarcos.fr/wordpress4_dumont/?post_type=audiotheme_gig&#038;p=249
URL:https://www.francoisdumont.com/en/shows/rueil-malmaison/
DTSTART;VALUE=DATE:20151213
SUMMARY:Rueil-Malmaison
DESCRIPTION:Œuvres de J. S. Bach & Ravel
END:VEVENT
END:VCALENDAR