BEGIN:VCALENDAR
VERSION:2.0
PRODID:-//AudioTheme 1.8.0
BEGIN:VEVENT
UID:http://www.francoisdumont.com/?post_type=audiotheme_gig&#038;p=502
URL:https://www.francoisdumont.com/en/shows/ravel-concerto-pour-la-main-gaucheonlille/
DTSTART;TZID=GMT:20170105T000000
SUMMARY:(Français) Ravel Concerto pour la main gauche/ONLille
DESCRIPTION:(Français) RAVEL Concerto pour la main gauche  Orchestre national de Lille\, direction David Niemann
LOCATION:Auditorium Nouveau Siècle\, place Mendès France\, Lille
END:VEVENT
END:VCALENDAR