BEGIN:VCALENDAR
VERSION:2.0
PRODID:-//AudioTheme 1.8.0
BEGIN:VEVENT
UID:http://www.francoisdumont.com/?post_type=audiotheme_gig&#038;p=842
URL:https://www.francoisdumont.com/en/shows/parlement-de-bretagne-2/
DTSTART;TZID=GMT:20171123T000000
SUMMARY:(Français) Parlement de Bretagne
DESCRIPTION:(Français) Programme américain   Avec Helen Kearns\, Soprano   Dans le cadre des Concerts de midi
LOCATION:Parlement de Bretagne\, Rennes
END:VEVENT
END:VCALENDAR