BEGIN:VCALENDAR
VERSION:2.0
PRODID:-//AudioTheme 1.8.0
BEGIN:VEVENT
UID:http://www.francoisdumont.com/?post_type=audiotheme_gig&#038;p=837
URL:https://www.francoisdumont.com/en/shows/opera-de-lyon-2/
DTSTART;TZID=GMT:20171217T000000
SUMMARY:(Français) Opéra de Lyon
DESCRIPTION:(Français) Concert Haydn/Dvorak  Avec les solistes de l'Orchestre de l'Opéra de Lyon
LOCATION:Opéra de Lyon
END:VEVENT
END:VCALENDAR