BEGIN:VCALENDAR
VERSION:2.0
PRODID:-//AudioTheme 1.8.0
BEGIN:VEVENT
UID:http://www.mickaelarcos.fr/wordpress4_dumont/?post_type=audiotheme_gig&#038;p=245
URL:https://www.francoisdumont.com/en/shows/gig-245/
DTSTART;VALUE=DATE:20151205
SUMMARY:Les Bruyères
DESCRIPTION:Concerts privés - Œuvres de Beethoven & Schubert
LOCATION:Les Bruyères
END:VEVENT
END:VCALENDAR