BEGIN:VCALENDAR
VERSION:2.0
PRODID:-//AudioTheme 1.8.0
BEGIN:VEVENT
UID:http://www.francoisdumont.com/?post_type=audiotheme_gig&#038;p=504
URL:https://www.francoisdumont.com/en/shows/festival-de-cartagena-colombie/
DTSTART;TZID=GMT:20170110T000000
SUMMARY:(Français) Cartagena Music Festival, Colombie
DESCRIPTION:(Français) Ravel
LOCATION:Capilla Santa Clara\, Carthagène\, Colombie
END:VEVENT
END:VCALENDAR