BEGIN:VCALENDAR
VERSION:2.0
PRODID:-//AudioTheme 1.8.0
BEGIN:VEVENT
UID:http://www.francoisdumont.com/?post_type=audiotheme_gig&#038;p=509
URL:https://www.francoisdumont.com/en/shows/cartagena-music-festival/
DTSTART;TZID=GMT:20170112T000000
SUMMARY:(Français) Cartagena Music Festival
DESCRIPTION:(Français) Récital\, "No solo Debussy y Ravel: la música francesa para piano de principios de 1900". Satie\, Roussel\, Tailleferre\, d'Indy\, Chabrier\, Dukas\, Fauré
LOCATION:Capilla Santa Clara\, Carthagène\, Colombie
END:VEVENT
END:VCALENDAR